BEGIN:VCALENDAR
VERSION:2.0
PRODID:-//wp-events-plugin.com//7.2.3.1//EN
BEGIN:VEVENT
UID:136@mamouplayboys.com
DTSTART;TZID=America/Chicago:20251019T150000
DTEND;TZID=America/Chicago:20251019T180000
DTSTAMP:20250916T235433Z
URL:https://www.mamouplayboys.com/events/the-wheelhouse/
SUMMARY:The Wheelhouse
DESCRIPTION:
LOCATION:Neches River Wheelhouse\, 720 Lee Ave\, Port Neches\, TX\, 77651\,
  United States
X-APPLE-STRUCTURED-LOCATION;VALUE=URI;X-ADDRESS=720 Lee Ave\, Port Neches\,
  TX\, 77651\, United States;X-APPLE-RADIUS=100;X-TITLE=Neches River Wheelh
 ouse:geo:0,0
END:VEVENT
BEGIN:VTIMEZONE
TZID:America/Chicago
X-LIC-LOCATION:America/Chicago
BEGIN:DAYLIGHT
DTSTART:20250309T030000
TZOFFSETFROM:-0600
TZOFFSETTO:-0500
TZNAME:CDT
END:DAYLIGHT
END:VTIMEZONE
END:VCALENDAR