BEGIN:VCALENDAR
VERSION:2.0
PRODID:-//wp-events-plugin.com//7.2.3.1//EN
BEGIN:VEVENT
UID:146@mamouplayboys.com
DTSTART;TZID=America/Chicago:20260503T134500
DTEND;TZID=America/Chicago:20260503T144500
DTSTAMP:20260226T222412Z
URL:https://www.mamouplayboys.com/events/new-orleans-jazz-heritage-festiva
 l-4/
SUMMARY:New Orleans Jazz & Heritage Festival
DESCRIPTION:
END:VEVENT
BEGIN:VTIMEZONE
TZID:America/Chicago
X-LIC-LOCATION:America/Chicago
BEGIN:DAYLIGHT
DTSTART:20260308T030000
TZOFFSETFROM:-0600
TZOFFSETTO:-0500
TZNAME:CDT
END:DAYLIGHT
END:VTIMEZONE
END:VCALENDAR