BEGIN:VCALENDAR
VERSION:2.0
PRODID:-//wp-events-plugin.com//7.2.3.1//EN
BEGIN:VEVENT
UID:134@mamouplayboys.com
DTSTART;TZID=America/Chicago:20251101T174500
DTEND;TZID=America/Chicago:20251101T203000
DTSTAMP:20250821T135747Z
URL:https://www.mamouplayboys.com/events/le-grand-hoorah-2/
SUMMARY:Le Grand Hoorah
DESCRIPTION:
LOCATION:Lakeview Park & Beach\, 1717 Veterans Memorial Hwy\, Eunice \, LA\
 , 70535\, United States
X-APPLE-STRUCTURED-LOCATION;VALUE=URI;X-ADDRESS=1717 Veterans Memorial Hwy\
 , Eunice \, LA\, 70535\, United States;X-APPLE-RADIUS=100;X-TITLE=Lakeview
  Park & Beach:geo:0,0
END:VEVENT
BEGIN:VTIMEZONE
TZID:America/Chicago
X-LIC-LOCATION:America/Chicago
BEGIN:DAYLIGHT
DTSTART:20250309T030000
TZOFFSETFROM:-0600
TZOFFSETTO:-0500
TZNAME:CDT
END:DAYLIGHT
END:VTIMEZONE
END:VCALENDAR