BEGIN:VCALENDAR
VERSION:2.0
PRODID:-//wp-events-plugin.com//7.2.3.1//EN
BEGIN:VEVENT
UID:158@mamouplayboys.com
DTSTART;TZID=America/Chicago:20260903T190000
DTEND;TZID=America/Chicago:20260903T220000
DTSTAMP:20260331T194330Z
URL:https://www.mamouplayboys.com/events/kinney-bungalow-narragansett/
SUMMARY:Kinney Bungalow Narragansett
DESCRIPTION:
LOCATION:Kinney Bungalow\, 505 Point Judith Road\, Narragansett \, RI\, 028
 82\, United States
X-APPLE-STRUCTURED-LOCATION;VALUE=URI;X-ADDRESS=505 Point Judith Road\, Nar
 ragansett \, RI\, 02882\, United States;X-APPLE-RADIUS=100;X-TITLE=Kinney 
 Bungalow:geo:0,0
END:VEVENT
BEGIN:VTIMEZONE
TZID:America/Chicago
X-LIC-LOCATION:America/Chicago
BEGIN:DAYLIGHT
DTSTART:20260308T030000
TZOFFSETFROM:-0600
TZOFFSETTO:-0500
TZNAME:CDT
END:DAYLIGHT
END:VTIMEZONE
END:VCALENDAR