BEGIN:VCALENDAR
VERSION:2.0
PRODID:-//wp-events-plugin.com//7.2.3.1//EN
BEGIN:VEVENT
UID:141@mamouplayboys.com
DTSTART;TZID=America/Chicago:20260328T190000
DTEND;TZID=America/Chicago:20260328T210000
DTSTAMP:20251205T182009Z
URL:https://www.mamouplayboys.com/events/jellystone-park-campground/
SUMMARY:Jellystone Park & Campground
DESCRIPTION:
LOCATION:Yogi Bear’s Jellystone Park & RV Resort\, 4200 Luke Powers Rd\, 
 Lake Charles\, LA\, 70615\, United States
X-APPLE-STRUCTURED-LOCATION;VALUE=URI;X-ADDRESS=4200 Luke Powers Rd\, Lake 
 Charles\, LA\, 70615\, United States;X-APPLE-RADIUS=100;X-TITLE=Yogi Bear
 ’s Jellystone Park & RV Resort:geo:0,0
END:VEVENT
BEGIN:VTIMEZONE
TZID:America/Chicago
X-LIC-LOCATION:America/Chicago
BEGIN:DAYLIGHT
DTSTART:20260308T030000
TZOFFSETFROM:-0600
TZOFFSETTO:-0500
TZNAME:CDT
END:DAYLIGHT
END:VTIMEZONE
END:VCALENDAR