BEGIN:VCALENDAR
VERSION:2.0
PRODID:-//wp-events-plugin.com//7.2.3.1//EN
BEGIN:VEVENT
UID:149@mamouplayboys.com
DTSTART;TZID=America/Chicago:20260426T121500
DTEND;TZID=America/Chicago:20260426T133000
DTSTAMP:20260115T170759Z
URL:https://www.mamouplayboys.com/events/festival-international-de-louisia
 ne/
SUMMARY:Festival International de Louisiane
DESCRIPTION:
END:VEVENT
BEGIN:VTIMEZONE
TZID:America/Chicago
X-LIC-LOCATION:America/Chicago
BEGIN:DAYLIGHT
DTSTART:20260308T030000
TZOFFSETFROM:-0600
TZOFFSETTO:-0500
TZNAME:CDT
END:DAYLIGHT
END:VTIMEZONE
END:VCALENDAR