BEGIN:VCALENDAR
VERSION:2.0
PRODID:-//wp-events-plugin.com//7.2.3.1//EN
BEGIN:VEVENT
UID:159@mamouplayboys.com
DTSTART;TZID=America/Chicago:20260918T200000
DTEND;TZID=America/Chicago:20260918T220000
DTSTAMP:20260331T235909Z
URL:https://www.mamouplayboys.com/events/bon-ton-festival/
SUMMARY:Bon Ton Festival
DESCRIPTION:
LOCATION:St. Theresa Church\, 4822 Carlyss Dr\, Sulphur \, LA\, United Stat
 es
X-APPLE-STRUCTURED-LOCATION;VALUE=URI;X-ADDRESS=4822 Carlyss Dr\, Sulphur \
 , LA\, United States;X-APPLE-RADIUS=100;X-TITLE=St. Theresa Church:geo:0,0
END:VEVENT
BEGIN:VTIMEZONE
TZID:America/Chicago
X-LIC-LOCATION:America/Chicago
BEGIN:DAYLIGHT
DTSTART:20260308T030000
TZOFFSETFROM:-0600
TZOFFSETTO:-0500
TZNAME:CDT
END:DAYLIGHT
END:VTIMEZONE
END:VCALENDAR