BEGIN:VCALENDAR
VERSION:2.0
PRODID:-//wp-events-plugin.com//7.2.3.1//EN
BEGIN:VEVENT
UID:139@mamouplayboys.com
DTSTART;TZID=America/Chicago:20260123T210000
DTEND;TZID=America/Chicago:20260124T230000
DTSTAMP:20251022T153618Z
URL:https://www.mamouplayboys.com/events/bayou-boogie-west/
SUMMARY:Bayou Boogie West
DESCRIPTION:
END:VEVENT
BEGIN:VTIMEZONE
TZID:America/Chicago
X-LIC-LOCATION:America/Chicago
BEGIN:STANDARD
DTSTART:20251102T010000
TZOFFSETFROM:-0500
TZOFFSETTO:-0600
TZNAME:CST
END:STANDARD
END:VTIMEZONE
END:VCALENDAR