BEGIN:VCALENDAR
VERSION:2.0
PRODID:-//wp-events-plugin.com//7.2.3.1//EN
BEGIN:VEVENT
UID:153@mamouplayboys.com
DTSTART;TZID=America/Chicago:20260620T000000
DTEND;TZID=America/Chicago:20260621T000000
DTSTAMP:20260215T201111Z
URL:https://www.mamouplayboys.com/events/bayou-boogie-festival-3/
SUMMARY:Bayou Boogie Festival
DESCRIPTION:
LOCATION:Goshen Fairgrounds\, 116 Old Middle St\, Goshen\, CT\, 06756\, Uni
 ted States
X-APPLE-STRUCTURED-LOCATION;VALUE=URI;X-ADDRESS=116 Old Middle St\, Goshen\
 , CT\, 06756\, United States;X-APPLE-RADIUS=100;X-TITLE=Goshen Fairgrounds
 :geo:0,0
END:VEVENT
BEGIN:VTIMEZONE
TZID:America/Chicago
X-LIC-LOCATION:America/Chicago
BEGIN:DAYLIGHT
DTSTART:20260308T030000
TZOFFSETFROM:-0600
TZOFFSETTO:-0500
TZNAME:CDT
END:DAYLIGHT
END:VTIMEZONE
END:VCALENDAR