BEGIN:VCALENDAR
VERSION:2.0
PRODID:-//wp-events-plugin.com//7.2.3.1//EN
BEGIN:VEVENT
UID:147@mamouplayboys.com
DTSTART;TZID=America/Chicago:20260214T180000
DTEND;TZID=America/Chicago:20260214T210000
DTSTAMP:20260103T221048Z
URL:https://www.mamouplayboys.com/events/adopted-dog-brewery-mardi-gras/
SUMMARY:Adopted Dog Brewery Mardi Gras
DESCRIPTION:
LOCATION:Adopted Dog Brewery\, 329 Dulles Dr\, Lafayette \, LA\, 70506\, Un
 ited States
X-APPLE-STRUCTURED-LOCATION;VALUE=URI;X-ADDRESS=329 Dulles Dr\, Lafayette \
 , LA\, 70506\, United States;X-APPLE-RADIUS=100;X-TITLE=Adopted Dog Brewer
 y:geo:0,0
END:VEVENT
BEGIN:VTIMEZONE
TZID:America/Chicago
X-LIC-LOCATION:America/Chicago
BEGIN:STANDARD
DTSTART:20251102T010000
TZOFFSETFROM:-0500
TZOFFSETTO:-0600
TZNAME:CST
END:STANDARD
END:VTIMEZONE
END:VCALENDAR